BEGIN:VCALENDAR
VERSION:2.0
PRODID:-//Carole Fiola - ECPv5.8.1//NONSGML v1.0//EN
CALSCALE:GREGORIAN
METHOD:PUBLISH
X-WR-CALNAME:Carole Fiola
X-ORIGINAL-URL:https://electcarole.com
X-WR-CALDESC:Events for Carole Fiola
BEGIN:VTIMEZONE
TZID:UTC
BEGIN:STANDARD
TZOFFSETFROM:+0000
TZOFFSETTO:+0000
TZNAME:UTC
DTSTART:20160101T000000
END:STANDARD
END:VTIMEZONE
BEGIN:VEVENT
DTSTART;TZID=UTC:20161212T083000
DTEND;TZID=UTC:20161212T093000
DTSTAMP:20260425T141716
CREATED:20161130T043239Z
LAST-MODIFIED:20161130T043239Z
UID:2193-1481531400-1481535000@electcarole.com
SUMMARY:Coffee and Conversation with Carole
DESCRIPTION:
URL:https://electcarole.com/event/coffee-conversation-carole/
LOCATION:Coffee and Conversation with Carole at Dunk N Munch\, 4263 North Main St\, Fall River\, MA\, 02720\, United States
END:VEVENT
END:VCALENDAR