BEGIN:VCALENDAR
VERSION:2.0
PRODID:-//Carole Fiola - ECPv5.8.1//NONSGML v1.0//EN
CALSCALE:GREGORIAN
METHOD:PUBLISH
X-WR-CALNAME:Carole Fiola
X-ORIGINAL-URL:https://electcarole.com
X-WR-CALDESC:Events for Carole Fiola
BEGIN:VTIMEZONE
TZID:UTC
BEGIN:STANDARD
TZOFFSETFROM:+0000
TZOFFSETTO:+0000
TZNAME:UTC
DTSTART:20160101T000000
END:STANDARD
END:VTIMEZONE
BEGIN:VEVENT
DTSTART;TZID=UTC:20161216T100000
DTEND;TZID=UTC:20161216T110000
DTSTAMP:20260425T141717
CREATED:20161130T042743Z
LAST-MODIFIED:20161130T042743Z
UID:2184-1481882400-1481886000@electcarole.com
SUMMARY:Freetown Town Hall Office Hours
DESCRIPTION:
URL:https://electcarole.com/event/freetown-town-hall-office-hours/
LOCATION:Freetown Town Hall\, 3 Main Street\, Assonet\, 02702\, United States
END:VEVENT
END:VCALENDAR