BEGIN:VCALENDAR
VERSION:2.0
PRODID:-//Carole Fiola - ECPv5.8.1//NONSGML v1.0//EN
CALSCALE:GREGORIAN
METHOD:PUBLISH
X-WR-CALNAME:Carole Fiola
X-ORIGINAL-URL:https://electcarole.com
X-WR-CALDESC:Events for Carole Fiola
BEGIN:VTIMEZONE
TZID:UTC
BEGIN:STANDARD
TZOFFSETFROM:+0000
TZOFFSETTO:+0000
TZNAME:UTC
DTSTART:20160101T000000
END:STANDARD
END:VTIMEZONE
BEGIN:VEVENT
DTSTART;TZID=UTC:20161219T083000
DTEND;TZID=UTC:20161219T093000
DTSTAMP:20260425T141717
CREATED:20161130T043355Z
LAST-MODIFIED:20161130T043355Z
UID:2196-1482136200-1482139800@electcarole.com
SUMMARY:Coffee and Conversation with Carole
DESCRIPTION:
URL:https://electcarole.com/event/coffee-conversation-carole-2/
LOCATION:New Boston Bakery\, 279 New Boston Rd\, Fall River\, MA\, 02720\, United States
END:VEVENT
BEGIN:VEVENT
DTSTART;TZID=UTC:20161219T100000
DTEND;TZID=UTC:20161219T110000
DTSTAMP:20260425T141717
CREATED:20161205T173100Z
LAST-MODIFIED:20161205T173100Z
UID:2223-1482141600-1482145200@electcarole.com
SUMMARY:Coffee and Conversation: Holiday Edition
DESCRIPTION:
URL:https://electcarole.com/event/coffee-conversation-holiday-edition/
LOCATION:Fall River Historical Society\, 451 Rock Street\, Fall River\, MA\, 02720\, United States
END:VEVENT
BEGIN:VEVENT
DTSTART;TZID=UTC:20161219T113000
DTEND;TZID=UTC:20161219T121500
DTSTAMP:20260425T141717
CREATED:20161130T042931Z
LAST-MODIFIED:20161130T042931Z
UID:2187-1482147000-1482149700@electcarole.com
SUMMARY:Flint Senior Center Office Hours
DESCRIPTION:
URL:https://electcarole.com/event/flint-senior-center-office-hours/
LOCATION:Flint Senior Center Office Hours\, 1423 Pleasant St\, Fall River\, MA\, 02723\, United States
END:VEVENT
BEGIN:VEVENT
DTSTART;TZID=UTC:20161219T123000
DTEND;TZID=UTC:20161219T131500
DTSTAMP:20260425T141717
CREATED:20161130T043116Z
LAST-MODIFIED:20161130T043116Z
UID:2190-1482150600-1482153300@electcarole.com
SUMMARY:North End Senior Center Office Hours
DESCRIPTION:
URL:https://electcarole.com/event/north-end-senior-center-office-hours/
LOCATION:North End Senior Center Office Hours\, 101 President Avenue\, Fall River\, MA\, 02720\, United States
END:VEVENT
END:VCALENDAR