BEGIN:VCALENDAR
VERSION:2.0
PRODID:-//Carole Fiola - ECPv5.8.1//NONSGML v1.0//EN
CALSCALE:GREGORIAN
METHOD:PUBLISH
X-WR-CALNAME:Carole Fiola
X-ORIGINAL-URL:https://electcarole.com
X-WR-CALDESC:Events for Carole Fiola
BEGIN:VTIMEZONE
TZID:UTC
BEGIN:STANDARD
TZOFFSETFROM:+0000
TZOFFSETTO:+0000
TZNAME:UTC
DTSTART:20170101T000000
END:STANDARD
END:VTIMEZONE
BEGIN:VEVENT
DTSTART;TZID=UTC:20170206T083000
DTEND;TZID=UTC:20170206T093000
DTSTAMP:20260425T110204
CREATED:20170104T024540Z
LAST-MODIFIED:20170104T024540Z
UID:2312-1486369800-1486373400@electcarole.com
SUMMARY:Coffee and Conversation with Carole
DESCRIPTION:
URL:https://electcarole.com/event/coffee-conversation-carole-5/
LOCATION:Assonet Dunkin’ Donuts\, 60 South Main Street\, Assonet\, MA\, 02702\, United States
END:VEVENT
BEGIN:VEVENT
DTSTART;TZID=UTC:20170206T100000
DTEND;TZID=UTC:20170206T110000
DTSTAMP:20260425T110204
CREATED:20170104T023643Z
LAST-MODIFIED:20170104T023643Z
UID:2292-1486375200-1486378800@electcarole.com
SUMMARY:Freetown at the Council on Aging Office Hours
DESCRIPTION:
URL:https://electcarole.com/event/freetown-council-aging-office-hours-2/
LOCATION:Council on Aging\, 227 Chace Road\, East Freetown\, MA\, United States
END:VEVENT
END:VCALENDAR