BEGIN:VCALENDAR
VERSION:2.0
PRODID:-//Carole Fiola - ECPv5.8.1//NONSGML v1.0//EN
CALSCALE:GREGORIAN
METHOD:PUBLISH
X-WR-CALNAME:Carole Fiola
X-ORIGINAL-URL:https://electcarole.com
X-WR-CALDESC:Events for Carole Fiola
BEGIN:VTIMEZONE
TZID:UTC
BEGIN:STANDARD
TZOFFSETFROM:+0000
TZOFFSETTO:+0000
TZNAME:UTC
DTSTART:20170101T000000
END:STANDARD
END:VTIMEZONE
BEGIN:VEVENT
DTSTART;TZID=UTC:20170210T090000
DTEND;TZID=UTC:20170210T110000
DTSTAMP:20260425T110047
CREATED:20170104T023441Z
LAST-MODIFIED:20170104T023441Z
UID:2286-1486717200-1486724400@electcarole.com
SUMMARY:Fall River District Office Hours
DESCRIPTION:
URL:https://electcarole.com/event/fall-river-district-office-hours-5/
LOCATION:Fall River District Office Hours\, 441 North Main St\, Fall River\, MA\, 02720\, United States
END:VEVENT
END:VCALENDAR