BEGIN:VCALENDAR
VERSION:2.0
PRODID:-//Carole Fiola - ECPv5.8.1//NONSGML v1.0//EN
CALSCALE:GREGORIAN
METHOD:PUBLISH
X-WR-CALNAME:Carole Fiola
X-ORIGINAL-URL:https://electcarole.com
X-WR-CALDESC:Events for Carole Fiola
BEGIN:VTIMEZONE
TZID:UTC
BEGIN:STANDARD
TZOFFSETFROM:+0000
TZOFFSETTO:+0000
TZNAME:UTC
DTSTART:20170101T000000
END:STANDARD
END:VTIMEZONE
BEGIN:VEVENT
DTSTART;TZID=UTC:20170710T083000
DTEND;TZID=UTC:20170710T093000
DTSTAMP:20260425T025943
CREATED:20170706T160044Z
LAST-MODIFIED:20170706T160044Z
UID:2748-1499675400-1499679000@electcarole.com
SUMMARY:"Coffee and Conversation with Carole"
DESCRIPTION:
URL:https://electcarole.com/event/coffee-conversation-carole-11/
LOCATION:Roger Coney Island Hot Dogs\, 1518 N Main St\, Fall River\, MA\, United States
END:VEVENT
END:VCALENDAR