BEGIN:VCALENDAR
VERSION:2.0
PRODID:-//Carole Fiola - ECPv5.8.1//NONSGML v1.0//EN
CALSCALE:GREGORIAN
METHOD:PUBLISH
X-WR-CALNAME:Carole Fiola
X-ORIGINAL-URL:https://electcarole.com
X-WR-CALDESC:Events for Carole Fiola
BEGIN:VTIMEZONE
TZID:UTC
BEGIN:STANDARD
TZOFFSETFROM:+0000
TZOFFSETTO:+0000
TZNAME:UTC
DTSTART:20170101T000000
END:STANDARD
END:VTIMEZONE
BEGIN:VEVENT
DTSTART;TZID=UTC:20170821T113000
DTEND;TZID=UTC:20170821T121500
DTSTAMP:20260425T011404
CREATED:20170706T160647Z
LAST-MODIFIED:20170706T160647Z
UID:2768-1503315000-1503317700@electcarole.com
SUMMARY:Flint Senior Center Office Hours
DESCRIPTION:
URL:https://electcarole.com/event/flint-senior-center-office-hours-8/
LOCATION:Flint Senior Center Office Hours\, 1423 Pleasant St\, Fall River\, MA\, 02723\, United States
END:VEVENT
BEGIN:VEVENT
DTSTART;TZID=UTC:20170821T123000
DTEND;TZID=UTC:20170821T131500
DTSTAMP:20260425T011404
CREATED:20170706T160819Z
LAST-MODIFIED:20170706T160819Z
UID:2773-1503318600-1503321300@electcarole.com
SUMMARY:North End Senior Center Office Hours
DESCRIPTION:
URL:https://electcarole.com/event/north-end-senior-center-office-hours-8/
LOCATION:MA
END:VEVENT
END:VCALENDAR