BEGIN:VCALENDAR
VERSION:2.0
PRODID:-//Carole Fiola - ECPv5.8.1//NONSGML v1.0//EN
CALSCALE:GREGORIAN
METHOD:PUBLISH
X-WR-CALNAME:Carole Fiola
X-ORIGINAL-URL:https://electcarole.com
X-WR-CALDESC:Events for Carole Fiola
BEGIN:VTIMEZONE
TZID:UTC
BEGIN:STANDARD
TZOFFSETFROM:+0000
TZOFFSETTO:+0000
TZNAME:UTC
DTSTART:20170101T000000
END:STANDARD
END:VTIMEZONE
BEGIN:VEVENT
DTSTART;TZID=UTC:20170919T083000
DTEND;TZID=UTC:20170919T093000
DTSTAMP:20260424T234805
CREATED:20170919T083005Z
LAST-MODIFIED:20170901T140606Z
UID:2826-1505809800-1505813400@electcarole.com
SUMMARY:Coffee and Conversation with Carole
DESCRIPTION:
URL:https://electcarole.com/event/coffee-conversation-carole-14/
LOCATION:Dunk N Munch\, 4263 N Main Street\, Fall River\, 02720\, United States
END:VEVENT
END:VCALENDAR