BEGIN:VCALENDAR
VERSION:2.0
PRODID:-//Carole Fiola - ECPv5.8.1//NONSGML v1.0//EN
CALSCALE:GREGORIAN
METHOD:PUBLISH
X-WR-CALNAME:Carole Fiola
X-ORIGINAL-URL:https://electcarole.com
X-WR-CALDESC:Events for Carole Fiola
BEGIN:VTIMEZONE
TZID:UTC
BEGIN:STANDARD
TZOFFSETFROM:+0000
TZOFFSETTO:+0000
TZNAME:UTC
DTSTART:20170101T000000
END:STANDARD
END:VTIMEZONE
BEGIN:VEVENT
DTSTART;TZID=UTC:20170924T130000
DTEND;TZID=UTC:20170924T160000
DTSTAMP:20260424T234806
CREATED:20170718T154127Z
LAST-MODIFIED:20170718T154127Z
UID:2781-1506258000-1506268800@electcarole.com
SUMMARY:Clam Boil Fundraiser for State Rep Carole Fiola
DESCRIPTION:For tickets email carolefiola@aol.com\, text (508) 641-0297\, message Carole on Facebook\, or mail a check to The Committee to Elect Carole Fiola\, 307 Archer Street\, Fall River\, MA 02720. Tickets Not available at the door due to space constraints. Hope to see you there!
URL:https://electcarole.com/event/clam-boil-fundraiser-state-rep-carole-fiola/
LOCATION:Elks Lodge\, 4500 N Main St\, Fall River\, MA\, 02720\, United States
END:VEVENT
END:VCALENDAR