BEGIN:VCALENDAR
VERSION:2.0
PRODID:-//Carole Fiola - ECPv5.8.1//NONSGML v1.0//EN
CALSCALE:GREGORIAN
METHOD:PUBLISH
X-WR-CALNAME:Carole Fiola
X-ORIGINAL-URL:https://electcarole.com
X-WR-CALDESC:Events for Carole Fiola
BEGIN:VTIMEZONE
TZID:UTC
BEGIN:STANDARD
TZOFFSETFROM:+0000
TZOFFSETTO:+0000
TZNAME:UTC
DTSTART:20170101T000000
END:STANDARD
END:VTIMEZONE
BEGIN:VEVENT
DTSTART;TZID=UTC:20171016T083000
DTEND;TZID=UTC:20171016T093000
DTSTAMP:20260424T221617
CREATED:20170815T142753Z
LAST-MODIFIED:20170815T142753Z
UID:2831-1508142600-1508146200@electcarole.com
SUMMARY:Coffee and Conversation with Carole
DESCRIPTION:
URL:https://electcarole.com/event/coffee-conversation-carole-16/
LOCATION:Assonet Dunkin’ Donuts\, 60 South Main Street\, Assonet\, MA\, 02702\, United States
END:VEVENT
BEGIN:VEVENT
DTSTART;TZID=UTC:20171016T113000
DTEND;TZID=UTC:20171016T121500
DTSTAMP:20260424T221617
CREATED:20170815T143343Z
LAST-MODIFIED:20170815T143343Z
UID:2847-1508153400-1508156100@electcarole.com
SUMMARY:Flint Senior Center Office Hours
DESCRIPTION:
URL:https://electcarole.com/event/flint-senior-center-office-hours-10/
LOCATION:Flint Senior Center Office Hours\, 1423 Pleasant St\, Fall River\, MA\, 02723\, United States
END:VEVENT
BEGIN:VEVENT
DTSTART;TZID=UTC:20171016T123000
DTEND;TZID=UTC:20171016T131500
DTSTAMP:20260424T221617
CREATED:20170815T143504Z
LAST-MODIFIED:20170815T143504Z
UID:2851-1508157000-1508159700@electcarole.com
SUMMARY:North End Senior Center Office Hours
DESCRIPTION:
URL:https://electcarole.com/event/north-end-senior-center-office-hours-10/
LOCATION:North End Senior Center Office Hours\, 101 President Avenue\, Fall River\, MA\, 02720\, United States
END:VEVENT
END:VCALENDAR