BEGIN:VCALENDAR
VERSION:2.0
PRODID:-//Carole Fiola - ECPv5.8.1//NONSGML v1.0//EN
CALSCALE:GREGORIAN
METHOD:PUBLISH
X-WR-CALNAME:Carole Fiola
X-ORIGINAL-URL:https://electcarole.com
X-WR-CALDESC:Events for Carole Fiola
BEGIN:VTIMEZONE
TZID:UTC
BEGIN:STANDARD
TZOFFSETFROM:+0000
TZOFFSETTO:+0000
TZNAME:UTC
DTSTART:20170101T000000
END:STANDARD
END:VTIMEZONE
BEGIN:VEVENT
DTSTART;TZID=UTC:20171120T083000
DTEND;TZID=UTC:20171120T093000
DTSTAMP:20260424T203307
CREATED:20171012T151604Z
LAST-MODIFIED:20171012T151604Z
UID:3055-1511166600-1511170200@electcarole.com
SUMMARY:"Coffee and Conversation with Carole"
DESCRIPTION:
URL:https://electcarole.com/event/coffee-conversation-carole-18/
LOCATION:McDonald’s\, 1690 President Ave\, Fall River\, 02720\, United States
END:VEVENT
BEGIN:VEVENT
DTSTART;TZID=UTC:20171120T113000
DTEND;TZID=UTC:20171120T121500
DTSTAMP:20260424T203307
CREATED:20171012T151240Z
LAST-MODIFIED:20171012T151240Z
UID:3049-1511177400-1511180100@electcarole.com
SUMMARY:Flint Senior Center Office Hours
DESCRIPTION:
URL:https://electcarole.com/event/flint-senior-center-office-hours-11/
LOCATION:Flint Senior Center Office Hours\, 1423 Pleasant St\, Fall River\, MA\, 02723\, United States
END:VEVENT
BEGIN:VEVENT
DTSTART;TZID=UTC:20171120T123000
DTEND;TZID=UTC:20171120T131500
DTSTAMP:20260424T203307
CREATED:20171012T151111Z
LAST-MODIFIED:20171012T151417Z
UID:3045-1511181000-1511183700@electcarole.com
SUMMARY:North End Senior Center Office Hours
DESCRIPTION:
URL:https://electcarole.com/event/north-end-senior-center-office-hours-11/
LOCATION:North End Senior Center Office Hours\, 101 President Avenue\, Fall River\, MA\, 02720\, United States
END:VEVENT
END:VCALENDAR