BEGIN:VCALENDAR
VERSION:2.0
PRODID:-//Carole Fiola - ECPv5.8.1//NONSGML v1.0//EN
CALSCALE:GREGORIAN
METHOD:PUBLISH
X-WR-CALNAME:Carole Fiola
X-ORIGINAL-URL:https://electcarole.com
X-WR-CALDESC:Events for Carole Fiola
BEGIN:VTIMEZONE
TZID:UTC
BEGIN:STANDARD
TZOFFSETFROM:+0000
TZOFFSETTO:+0000
TZNAME:UTC
DTSTART:20180101T000000
END:STANDARD
END:VTIMEZONE
BEGIN:VEVENT
DTSTART;TZID=UTC:20180108T083000
DTEND;TZID=UTC:20180108T093000
DTSTAMP:20260424T173155
CREATED:20171227T165604Z
LAST-MODIFIED:20171227T165604Z
UID:3244-1515400200-1515403800@electcarole.com
SUMMARY:Coffee and Conversation with Carole
DESCRIPTION:
URL:https://electcarole.com/event/coffee-conversation-carole-20/
LOCATION:Highland Luncheonette\, 757 Robeson Street\, Fall River\, MA\, 02720\, United States
END:VEVENT
BEGIN:VEVENT
DTSTART;TZID=UTC:20180108T100000
DTEND;TZID=UTC:20180108T110000
DTSTAMP:20260424T173155
CREATED:20171227T170310Z
LAST-MODIFIED:20171227T170310Z
UID:3263-1515405600-1515409200@electcarole.com
SUMMARY:Freetown Council on Aging Office Hours
DESCRIPTION:
URL:https://electcarole.com/event/freetown-council-aging-office-hours-6/
LOCATION:Council on Aging\, 227 Chace Road\, East Freetown\, MA\, United States
END:VEVENT
END:VCALENDAR