BEGIN:VCALENDAR
VERSION:2.0
PRODID:-//Carole Fiola - ECPv5.8.1//NONSGML v1.0//EN
CALSCALE:GREGORIAN
METHOD:PUBLISH
X-WR-CALNAME:Carole Fiola
X-ORIGINAL-URL:https://electcarole.com
X-WR-CALDESC:Events for Carole Fiola
BEGIN:VTIMEZONE
TZID:UTC
BEGIN:STANDARD
TZOFFSETFROM:+0000
TZOFFSETTO:+0000
TZNAME:UTC
DTSTART:20180101T000000
END:STANDARD
END:VTIMEZONE
BEGIN:VEVENT
DTSTART;TZID=UTC:20180122T083000
DTEND;TZID=UTC:20180122T093000
DTSTAMP:20260424T173219
CREATED:20171227T165635Z
LAST-MODIFIED:20171227T165635Z
UID:3246-1516609800-1516613400@electcarole.com
SUMMARY:Coffee and Conversation with Carole
DESCRIPTION:
URL:https://electcarole.com/event/coffee-conversation-carole-21/
LOCATION:New York Bagel\, 1527 President Avenue\, Fall River\, 02720
END:VEVENT
BEGIN:VEVENT
DTSTART;TZID=UTC:20180122T113000
DTEND;TZID=UTC:20180122T121500
DTSTAMP:20260424T173219
CREATED:20171227T170354Z
LAST-MODIFIED:20171227T170354Z
UID:3265-1516620600-1516623300@electcarole.com
SUMMARY:Flint Senior Center Office Hours
DESCRIPTION:
URL:https://electcarole.com/event/flint-senior-center-office-hours-13/
LOCATION:Flint Senior Center Office Hours\, 1423 Pleasant St\, Fall River\, MA\, 02723\, United States
END:VEVENT
BEGIN:VEVENT
DTSTART;TZID=UTC:20180122T123000
DTEND;TZID=UTC:20180122T131500
DTSTAMP:20260424T173219
CREATED:20171227T170519Z
LAST-MODIFIED:20171227T170519Z
UID:3269-1516624200-1516626900@electcarole.com
SUMMARY:North End Senior Center Office Hours
DESCRIPTION:
URL:https://electcarole.com/event/north-end-senior-center-office-hours-13/
LOCATION:North End Senior Center Office Hours\, 101 President Avenue\, Fall River\, MA\, 02720\, United States
END:VEVENT
END:VCALENDAR