BEGIN:VCALENDAR
VERSION:2.0
PRODID:-//Carole Fiola - ECPv5.8.1//NONSGML v1.0//EN
CALSCALE:GREGORIAN
METHOD:PUBLISH
X-WR-CALNAME:Carole Fiola
X-ORIGINAL-URL:https://electcarole.com
X-WR-CALDESC:Events for Carole Fiola
BEGIN:VTIMEZONE
TZID:UTC
BEGIN:STANDARD
TZOFFSETFROM:+0000
TZOFFSETTO:+0000
TZNAME:UTC
DTSTART:20180101T000000
END:STANDARD
END:VTIMEZONE
BEGIN:VEVENT
DTSTART;TZID=UTC:20180212T083000
DTEND;TZID=UTC:20180212T093000
DTSTAMP:20260424T155259
CREATED:20171227T165705Z
LAST-MODIFIED:20171227T165705Z
UID:3248-1518424200-1518427800@electcarole.com
SUMMARY:Coffee and Conversation with Carole
DESCRIPTION:
URL:https://electcarole.com/event/coffee-conversation-carole-22/
LOCATION:Gina’s Restauant\, 950 Wilson Rd\, Fall River\, MA\, 02720\, United States
END:VEVENT
END:VCALENDAR