BEGIN:VCALENDAR
VERSION:2.0
PRODID:-//Carole Fiola - ECPv5.8.1//NONSGML v1.0//EN
CALSCALE:GREGORIAN
METHOD:PUBLISH
X-WR-CALNAME:Carole Fiola
X-ORIGINAL-URL:https://electcarole.com
X-WR-CALDESC:Events for Carole Fiola
BEGIN:VTIMEZONE
TZID:UTC
BEGIN:STANDARD
TZOFFSETFROM:+0000
TZOFFSETTO:+0000
TZNAME:UTC
DTSTART:20180101T000000
END:STANDARD
END:VTIMEZONE
BEGIN:VEVENT
DTSTART;TZID=UTC:20180316T090000
DTEND;TZID=UTC:20180316T100000
DTSTAMP:20260424T141907
CREATED:20180207T145116Z
LAST-MODIFIED:20180207T145128Z
UID:3343-1521190800-1521194400@electcarole.com
SUMMARY:Fall River District Office Hours
DESCRIPTION:
URL:https://electcarole.com/event/fall-river-district-office-hours-30/
LOCATION:Fall River District Office Hours\, 441 North Main St\, Fall River\, MA\, 02720\, United States
END:VEVENT
END:VCALENDAR