BEGIN:VCALENDAR
VERSION:2.0
PRODID:-//Carole Fiola - ECPv5.8.1//NONSGML v1.0//EN
CALSCALE:GREGORIAN
METHOD:PUBLISH
X-WR-CALNAME:Carole Fiola
X-ORIGINAL-URL:https://electcarole.com
X-WR-CALDESC:Events for Carole Fiola
BEGIN:VTIMEZONE
TZID:UTC
BEGIN:STANDARD
TZOFFSETFROM:+0000
TZOFFSETTO:+0000
TZNAME:UTC
DTSTART:20180101T000000
END:STANDARD
END:VTIMEZONE
BEGIN:VEVENT
DTSTART;TZID=UTC:20180409T090000
DTEND;TZID=UTC:20180409T100000
DTSTAMP:20260424T124159
CREATED:20180207T152228Z
LAST-MODIFIED:20180207T152228Z
UID:3363-1523264400-1523268000@electcarole.com
SUMMARY:Coffee and Conversation with Carole
DESCRIPTION:
URL:https://electcarole.com/event/coffee-conversation-carole-25/
LOCATION:McDonald’s\, 1690 President Ave\, Fall River\, 02720\, United States
END:VEVENT
BEGIN:VEVENT
DTSTART;TZID=UTC:20180409T113000
DTEND;TZID=UTC:20180409T121500
DTSTAMP:20260424T124159
CREATED:20180207T145636Z
LAST-MODIFIED:20180207T145636Z
UID:3355-1523273400-1523276100@electcarole.com
SUMMARY:Flint Senior Center Office Hours
DESCRIPTION:
URL:https://electcarole.com/event/flint-senior-center-office-hours-16/
LOCATION:Flint Senior Center Office Hours\, 1423 Pleasant St\, Fall River\, MA\, 02723\, United States
END:VEVENT
BEGIN:VEVENT
DTSTART;TZID=UTC:20180409T123000
DTEND;TZID=UTC:20180409T131500
DTSTAMP:20260424T124159
CREATED:20180207T145832Z
LAST-MODIFIED:20180207T145832Z
UID:3359-1523277000-1523279700@electcarole.com
SUMMARY:North End Senior Center Office Hours
DESCRIPTION:
URL:https://electcarole.com/event/north-end-senior-center-office-hours-16/
LOCATION:North End Senior Center Office Hours\, 101 President Avenue\, Fall River\, MA\, 02720\, United States
END:VEVENT
END:VCALENDAR