BEGIN:VCALENDAR
VERSION:2.0
PRODID:-//Carole Fiola - ECPv5.8.1//NONSGML v1.0//EN
CALSCALE:GREGORIAN
METHOD:PUBLISH
X-WR-CALNAME:Carole Fiola
X-ORIGINAL-URL:https://electcarole.com
X-WR-CALDESC:Events for Carole Fiola
BEGIN:VTIMEZONE
TZID:UTC
BEGIN:STANDARD
TZOFFSETFROM:+0000
TZOFFSETTO:+0000
TZNAME:UTC
DTSTART:20180101T000000
END:STANDARD
END:VTIMEZONE
BEGIN:VEVENT
DTSTART;TZID=UTC:20180507T100000
DTEND;TZID=UTC:20180507T110000
DTSTAMP:20260424T104635
CREATED:20180406T151357Z
LAST-MODIFIED:20180406T151357Z
UID:3528-1525687200-1525690800@electcarole.com
SUMMARY:Freetown Council on Aging Office Hours
DESCRIPTION:
URL:https://electcarole.com/event/freetown-council-aging-office-hours-8/
LOCATION:Council on Aging\, 227 Chace Road\, East Freetown\, MA\, United States
END:VEVENT
BEGIN:VEVENT
DTSTART;TZID=UTC:20180507T113000
DTEND;TZID=UTC:20180507T121500
DTSTAMP:20260424T104635
CREATED:20180406T151602Z
LAST-MODIFIED:20180406T151602Z
UID:3532-1525692600-1525695300@electcarole.com
SUMMARY:Flint Senior Center Office Hours
DESCRIPTION:
URL:https://electcarole.com/event/flint-senior-center-office-hours-17/
LOCATION:MA
END:VEVENT
BEGIN:VEVENT
DTSTART;TZID=UTC:20180507T123000
DTEND;TZID=UTC:20180507T131500
DTSTAMP:20260424T104635
CREATED:20180406T151728Z
LAST-MODIFIED:20180406T151728Z
UID:3536-1525696200-1525698900@electcarole.com
SUMMARY:North End Senior Center Office Hours
DESCRIPTION:
URL:https://electcarole.com/event/north-end-senior-center-office-hours-17/
LOCATION:North End Senior Center Office Hours\, 101 President Avenue\, Fall River\, MA\, 02720\, United States
END:VEVENT
BEGIN:VEVENT
DTSTART;TZID=UTC:20180507T160000
DTEND;TZID=UTC:20180507T170000
DTSTAMP:20260424T104635
CREATED:20180406T152008Z
LAST-MODIFIED:20180406T152008Z
UID:3544-1525708800-1525712400@electcarole.com
SUMMARY:Coffee and Conversation with Carole
DESCRIPTION:
URL:https://electcarole.com/event/coffee-conversation-carole-28/
LOCATION:The Pink Bean Coffee\, 85 Purchase St\, Fall River\, MA\, 02720\, United States
END:VEVENT
END:VCALENDAR