BEGIN:VCALENDAR
VERSION:2.0
PRODID:-//Carole Fiola - ECPv5.8.1//NONSGML v1.0//EN
CALSCALE:GREGORIAN
METHOD:PUBLISH
X-WR-CALNAME:Carole Fiola
X-ORIGINAL-URL:https://electcarole.com
X-WR-CALDESC:Events for Carole Fiola
BEGIN:VTIMEZONE
TZID:UTC
BEGIN:STANDARD
TZOFFSETFROM:+0000
TZOFFSETTO:+0000
TZNAME:UTC
DTSTART:20190101T000000
END:STANDARD
END:VTIMEZONE
BEGIN:VEVENT
DTSTART;TZID=UTC:20190201T090000
DTEND;TZID=UTC:20190201T100000
DTSTAMP:20260423T180330
CREATED:20190125T171115Z
LAST-MODIFIED:20190125T171115Z
UID:4135-1549011600-1549015200@electcarole.com
SUMMARY:Fall River District Office Hours
DESCRIPTION:
URL:https://electcarole.com/event/fall-river-district-office-hours-33/
LOCATION:441 North Main St. Fall River – 2nd Floor of the Registry of Deed\, 441 North Main St\, Fall River\, MA
END:VEVENT
BEGIN:VEVENT
DTSTART;TZID=UTC:20190201T103000
DTEND;TZID=UTC:20190201T113000
DTSTAMP:20260423T180330
CREATED:20190125T171357Z
LAST-MODIFIED:20190125T171357Z
UID:4138-1549017000-1549020600@electcarole.com
SUMMARY:Assonet Office Hours
DESCRIPTION:
URL:https://electcarole.com/event/assonet-office-hours-10/
LOCATION:Freetown Town Hall\, 3 Main Street\, Assonet\, 02702\, United States
END:VEVENT
END:VCALENDAR