BEGIN:VCALENDAR
VERSION:2.0
PRODID:-//Carole Fiola - ECPv5.8.1//NONSGML v1.0//EN
CALSCALE:GREGORIAN
METHOD:PUBLISH
X-WR-CALNAME:Carole Fiola
X-ORIGINAL-URL:https://electcarole.com
X-WR-CALDESC:Events for Carole Fiola
BEGIN:VTIMEZONE
TZID:UTC
BEGIN:STANDARD
TZOFFSETFROM:+0000
TZOFFSETTO:+0000
TZNAME:UTC
DTSTART:20190101T000000
END:STANDARD
END:VTIMEZONE
BEGIN:VEVENT
DTSTART;TZID=UTC:20190603T090000
DTEND;TZID=UTC:20190603T100000
DTSTAMP:20260423T095355
CREATED:20190531T172359Z
LAST-MODIFIED:20190531T172359Z
UID:4386-1559552400-1559556000@electcarole.com
SUMMARY:Coffee and Conversation with Carole
DESCRIPTION:
URL:https://electcarole.com/event/coffee-and-conversation-with-carole-7/
LOCATION:Pine Street Veteran’s Center\, 755 Pine St\, Fall River\, MA\, 02720\, United States
END:VEVENT
END:VCALENDAR