BEGIN:VCALENDAR
VERSION:2.0
PRODID:-//Carole Fiola - ECPv5.8.1//NONSGML v1.0//EN
CALSCALE:GREGORIAN
METHOD:PUBLISH
X-WR-CALNAME:Carole Fiola
X-ORIGINAL-URL:https://electcarole.com
X-WR-CALDESC:Events for Carole Fiola
BEGIN:VTIMEZONE
TZID:UTC
BEGIN:STANDARD
TZOFFSETFROM:+0000
TZOFFSETTO:+0000
TZNAME:UTC
DTSTART:20190101T000000
END:STANDARD
END:VTIMEZONE
BEGIN:VEVENT
DTSTART;TZID=UTC:20190624T090000
DTEND;TZID=UTC:20190624T100000
DTSTAMP:20260423T095304
CREATED:20190531T173104Z
LAST-MODIFIED:20190531T173104Z
UID:4396-1561366800-1561370400@electcarole.com
SUMMARY:Coffee and Conversation with Carole
DESCRIPTION:
URL:https://electcarole.com/event/coffee-and-conversation-with-carole-10/
LOCATION:Flint Village Restaurant\, 1270 Pleasant St\, Fall River\, 02723\, United States
END:VEVENT
BEGIN:VEVENT
DTSTART;TZID=UTC:20190624T173000
DTEND;TZID=UTC:20190624T183000
DTSTAMP:20260423T095304
CREATED:20190607T184537Z
LAST-MODIFIED:20190607T184537Z
UID:4418-1561397400-1561401000@electcarole.com
SUMMARY:Walk and Talk at the Water Department
DESCRIPTION:
URL:https://electcarole.com/event/walk-and-talk-at-the-water-department/
LOCATION:Water Department\, 1620 Bedford Street\, Fall River\, MA\, 02723
END:VEVENT
END:VCALENDAR