BEGIN:VCALENDAR
VERSION:2.0
PRODID:-//Carole Fiola - ECPv5.8.1//NONSGML v1.0//EN
CALSCALE:GREGORIAN
METHOD:PUBLISH
X-WR-CALNAME:Carole Fiola
X-ORIGINAL-URL:https://electcarole.com
X-WR-CALDESC:Events for Carole Fiola
BEGIN:VTIMEZONE
TZID:UTC
BEGIN:STANDARD
TZOFFSETFROM:+0000
TZOFFSETTO:+0000
TZNAME:UTC
DTSTART:20190101T000000
END:STANDARD
END:VTIMEZONE
BEGIN:VEVENT
DTSTART;TZID=UTC:20190712T090000
DTEND;TZID=UTC:20190712T100000
DTSTAMP:20260423T081343
CREATED:20190719T163239Z
LAST-MODIFIED:20190719T163239Z
UID:4504-1562922000-1562925600@electcarole.com
SUMMARY:Fall River District Hours
DESCRIPTION:
URL:https://electcarole.com/event/fall-river-district-hours/
LOCATION:441 North Main St. Fall River – 2nd Floor of the Registry of Deed\, 441 North Main St\, Fall River\, MA
END:VEVENT
BEGIN:VEVENT
DTSTART;TZID=UTC:20190712T113000
DTEND;TZID=UTC:20190712T121500
DTSTAMP:20260423T081343
CREATED:20190719T163337Z
LAST-MODIFIED:20190719T163337Z
UID:4506-1562931000-1562933700@electcarole.com
SUMMARY:Freetown District Hours
DESCRIPTION:
URL:https://electcarole.com/event/freetown-district-hours/
LOCATION:Freetown Town Hall\, 3 Main Street\, Assonet\, 02702\, United States
END:VEVENT
END:VCALENDAR