BEGIN:VCALENDAR
VERSION:2.0
PRODID:-//Carole Fiola - ECPv5.8.1//NONSGML v1.0//EN
CALSCALE:GREGORIAN
METHOD:PUBLISH
X-WR-CALNAME:Carole Fiola
X-ORIGINAL-URL:https://electcarole.com
X-WR-CALDESC:Events for Carole Fiola
BEGIN:VTIMEZONE
TZID:UTC
BEGIN:STANDARD
TZOFFSETFROM:+0000
TZOFFSETTO:+0000
TZNAME:UTC
DTSTART:20190101T000000
END:STANDARD
END:VTIMEZONE
BEGIN:VEVENT
DTSTART;TZID=UTC:20190812T083000
DTEND;TZID=UTC:20190812T093000
DTSTAMP:20260423T063247
CREATED:20190719T163630Z
LAST-MODIFIED:20190719T163630Z
UID:4512-1565598600-1565602200@electcarole.com
SUMMARY:Coffee and Conversation with Carole
DESCRIPTION:
URL:https://electcarole.com/event/coffee-and-conversation-with-carole-17/
LOCATION:Almac’s Diner\, 135 President Ave\, Fall River\, 02720\, United States
END:VEVENT
END:VCALENDAR