BEGIN:VCALENDAR
VERSION:2.0
PRODID:-//Carole Fiola - ECPv5.8.1//NONSGML v1.0//EN
CALSCALE:GREGORIAN
METHOD:PUBLISH
X-WR-CALNAME:Carole Fiola
X-ORIGINAL-URL:https://electcarole.com
X-WR-CALDESC:Events for Carole Fiola
BEGIN:VTIMEZONE
TZID:UTC
BEGIN:STANDARD
TZOFFSETFROM:+0000
TZOFFSETTO:+0000
TZNAME:UTC
DTSTART:20190101T000000
END:STANDARD
END:VTIMEZONE
BEGIN:VEVENT
DTSTART;TZID=UTC:20190913T090000
DTEND;TZID=UTC:20190913T100000
DTSTAMP:20260423T045128
CREATED:20190920T164842Z
LAST-MODIFIED:20190920T164842Z
UID:4661-1568365200-1568368800@electcarole.com
SUMMARY:Fall River District Office Hours
DESCRIPTION:
URL:https://electcarole.com/event/fall-river-district-office-hours-47/
LOCATION:441 North Main St. Fall River – 2nd Floor of the Registry of Deed\, 441 North Main St\, Fall River\, MA
END:VEVENT
BEGIN:VEVENT
DTSTART;TZID=UTC:20190913T103000
DTEND;TZID=UTC:20190913T113000
DTSTAMP:20260423T045128
CREATED:20190920T164949Z
LAST-MODIFIED:20190920T164949Z
UID:4663-1568370600-1568374200@electcarole.com
SUMMARY:Freetown Office Hours
DESCRIPTION:
URL:https://electcarole.com/event/freetown-office-hours-4/
LOCATION:Freetown Town Hall\, 3 Main Street\, Assonet\, 02702\, United States
END:VEVENT
END:VCALENDAR