BEGIN:VCALENDAR
VERSION:2.0
PRODID:-//Carole Fiola - ECPv5.8.1//NONSGML v1.0//EN
CALSCALE:GREGORIAN
METHOD:PUBLISH
X-WR-CALNAME:Carole Fiola
X-ORIGINAL-URL:https://electcarole.com
X-WR-CALDESC:Events for Carole Fiola
BEGIN:VTIMEZONE
TZID:UTC
BEGIN:STANDARD
TZOFFSETFROM:+0000
TZOFFSETTO:+0000
TZNAME:UTC
DTSTART:20190101T000000
END:STANDARD
END:VTIMEZONE
BEGIN:VEVENT
DTSTART;TZID=UTC:20191104T003000
DTEND;TZID=UTC:20191104T131500
DTSTAMP:20260423T014611
CREATED:20191018T205935Z
LAST-MODIFIED:20191018T210636Z
UID:4808-1572827400-1572873300@electcarole.com
SUMMARY:Fall River District Office Hours
DESCRIPTION:
URL:https://electcarole.com/event/fall-river-district-office-hours-53/
LOCATION:North End Senior Center Office Hours\, 101 President Avenue\, Fall River\, MA\, 02720\, United States
END:VEVENT
BEGIN:VEVENT
DTSTART;TZID=UTC:20191104T083000
DTEND;TZID=UTC:20191104T093000
DTSTAMP:20260423T014611
CREATED:20191018T212824Z
LAST-MODIFIED:20191018T212824Z
UID:4831-1572856200-1572859800@electcarole.com
SUMMARY:Coffee and Conversation with Carole
DESCRIPTION:
URL:https://electcarole.com/event/coffee-and-conversation-with-carole-22/
LOCATION:Dunk N Munch\, 4263 N Main Street\, Fall River\, 02720\, United States
END:VEVENT
BEGIN:VEVENT
DTSTART;TZID=UTC:20191104T113000
DTEND;TZID=UTC:20191104T121500
DTSTAMP:20260423T014611
CREATED:20191018T205825Z
LAST-MODIFIED:20191018T210407Z
UID:4806-1572867000-1572869700@electcarole.com
SUMMARY:Fall River District Office Hours
DESCRIPTION:
URL:https://electcarole.com/event/fall-river-district-office-hours-52/
LOCATION:Flint Senior Center Office Hours\, 1423 Pleasant St\, Fall River\, MA\, 02723\, United States
END:VEVENT
END:VCALENDAR