BEGIN:VCALENDAR
VERSION:2.0
PRODID:-//Carole Fiola - ECPv5.8.1//NONSGML v1.0//EN
CALSCALE:GREGORIAN
METHOD:PUBLISH
X-WR-CALNAME:Carole Fiola
X-ORIGINAL-URL:https://electcarole.com
X-WR-CALDESC:Events for Carole Fiola
BEGIN:VTIMEZONE
TZID:UTC
BEGIN:STANDARD
TZOFFSETFROM:+0000
TZOFFSETTO:+0000
TZNAME:UTC
DTSTART:20190101T000000
END:STANDARD
END:VTIMEZONE
BEGIN:VEVENT
DTSTART;TZID=UTC:20191202T100000
DTEND;TZID=UTC:20191202T230000
DTSTAMP:20260423T001224
CREATED:20191018T211030Z
LAST-MODIFIED:20191018T211030Z
UID:4816-1575280800-1575327600@electcarole.com
SUMMARY:Freetown Office Hours
DESCRIPTION:
URL:https://electcarole.com/event/freetown-office-hours-7/
LOCATION:Freetown Council on Aging\, 227 Chase Road\, East Freetown\, MA
END:VEVENT
BEGIN:VEVENT
DTSTART;TZID=UTC:20191202T113000
DTEND;TZID=UTC:20191202T121500
DTSTAMP:20260423T001224
CREATED:20191018T211151Z
LAST-MODIFIED:20191018T211151Z
UID:4818-1575286200-1575288900@electcarole.com
SUMMARY:Fall River District Office Hours
DESCRIPTION:
URL:https://electcarole.com/event/fall-river-district-office-hours-56/
LOCATION:Flint Senior Center Office Hours\, 1423 Pleasant St\, Fall River\, MA\, 02723\, United States
END:VEVENT
BEGIN:VEVENT
DTSTART;TZID=UTC:20191202T123000
DTEND;TZID=UTC:20191202T131500
DTSTAMP:20260423T001224
CREATED:20191018T211250Z
LAST-MODIFIED:20191018T211250Z
UID:4820-1575289800-1575292500@electcarole.com
SUMMARY:Fall River District Office Hours
DESCRIPTION:
URL:https://electcarole.com/event/fall-river-district-office-hours-57/
LOCATION:North End Senior Center Office Hours\, 101 President Avenue\, Fall River\, MA\, 02720\, United States
END:VEVENT
END:VCALENDAR