BEGIN:VCALENDAR
VERSION:2.0
PRODID:-//Carole Fiola - ECPv5.8.1//NONSGML v1.0//EN
CALSCALE:GREGORIAN
METHOD:PUBLISH
X-WR-CALNAME:Carole Fiola
X-ORIGINAL-URL:https://electcarole.com
X-WR-CALDESC:Events for Carole Fiola
BEGIN:VTIMEZONE
TZID:UTC
BEGIN:STANDARD
TZOFFSETFROM:+0000
TZOFFSETTO:+0000
TZNAME:UTC
DTSTART:20200101T000000
END:STANDARD
END:VTIMEZONE
BEGIN:VEVENT
DTSTART;TZID=UTC:20200124T090000
DTEND;TZID=UTC:20200124T100000
DTSTAMP:20260422T223932
CREATED:20191121T154456Z
LAST-MODIFIED:20191121T154456Z
UID:4962-1579856400-1579860000@electcarole.com
SUMMARY:Fall River District Office Hours
DESCRIPTION:
URL:https://electcarole.com/event/fall-river-district-office-hours-61/
LOCATION:441 North Main St. Fall River – 2nd Floor of the Registry of Deed\, 441 North Main St\, Fall River\, MA
END:VEVENT
END:VCALENDAR