BEGIN:VCALENDAR
VERSION:2.0
PRODID:-//Carole Fiola - ECPv5.8.1//NONSGML v1.0//EN
CALSCALE:GREGORIAN
METHOD:PUBLISH
X-WR-CALNAME:Carole Fiola
X-ORIGINAL-URL:https://electcarole.com
X-WR-CALDESC:Events for Carole Fiola
BEGIN:VTIMEZONE
TZID:UTC
BEGIN:STANDARD
TZOFFSETFROM:+0000
TZOFFSETTO:+0000
TZNAME:UTC
DTSTART:20200101T000000
END:STANDARD
END:VTIMEZONE
BEGIN:VEVENT
DTSTART;TZID=UTC:20200317T090000
DTEND;TZID=UTC:20200317T100000
DTSTAMP:20260423T014611
CREATED:20200221T160808Z
LAST-MODIFIED:20200221T160808Z
UID:5172-1584435600-1584439200@electcarole.com
SUMMARY:Coffee and Conversation with Carole
DESCRIPTION:
URL:https://electcarole.com/event/coffee-and-conversation-with-carole-24/
LOCATION:Cardinal Medeiros Towers\, 1197 Robeson St\, Fall River\, MA\, United States
END:VEVENT
END:VCALENDAR