BEGIN:VCALENDAR
VERSION:2.0
PRODID:-//Carole Fiola - ECPv5.8.1//NONSGML v1.0//EN
CALSCALE:GREGORIAN
METHOD:PUBLISH
X-WR-CALNAME:Carole Fiola
X-ORIGINAL-URL:https://electcarole.com
X-WR-CALDESC:Events for Carole Fiola
BEGIN:VTIMEZONE
TZID:UTC
BEGIN:STANDARD
TZOFFSETFROM:+0000
TZOFFSETTO:+0000
TZNAME:UTC
DTSTART:20200101T000000
END:STANDARD
END:VTIMEZONE
BEGIN:VEVENT
DTSTART;TZID=UTC:20200930T100000
DTEND;TZID=UTC:20200930T110000
DTSTAMP:20260423T113120
CREATED:20200924T200542Z
LAST-MODIFIED:20200924T200542Z
UID:6442-1601460000-1601463600@electcarole.com
SUMMARY:Coffee and Conversation with Carole
DESCRIPTION:This Coffee and Conversation will be held outdoors and properly socially distanced. Masks will be required.
URL:https://electcarole.com/event/coffee-and-conversation-with-carole-27/
LOCATION:441 North Main St. Fall River – 2nd Floor of the Registry of Deed\, 441 North Main St\, Fall River\, MA
END:VEVENT
END:VCALENDAR