BEGIN:VCALENDAR
VERSION:2.0
PRODID:-//Carole Fiola - ECPv5.8.1//NONSGML v1.0//EN
CALSCALE:GREGORIAN
METHOD:PUBLISH
X-WR-CALNAME:Carole Fiola
X-ORIGINAL-URL:https://electcarole.com
X-WR-CALDESC:Events for Carole Fiola
BEGIN:VTIMEZONE
TZID:UTC
BEGIN:STANDARD
TZOFFSETFROM:+0000
TZOFFSETTO:+0000
TZNAME:UTC
DTSTART:20210101T000000
END:STANDARD
END:VTIMEZONE
BEGIN:VEVENT
DTSTART;TZID=UTC:20211021T103000
DTEND;TZID=UTC:20211021T111500
DTSTAMP:20260424T124535
CREATED:20211005T150737Z
LAST-MODIFIED:20211005T150737Z
UID:7354-1634812200-1634814900@electcarole.com
SUMMARY:Freetown Office Hours
DESCRIPTION:
URL:https://electcarole.com/event/freetown-office-hours-10/
LOCATION:Freetown Council on Aging\, 227 Chase Road\, East Freetown\, MA
END:VEVENT
BEGIN:VEVENT
DTSTART;TZID=UTC:20211021T113000
DTEND;TZID=UTC:20211021T121500
DTSTAMP:20260424T124535
CREATED:20211005T150831Z
LAST-MODIFIED:20211005T150831Z
UID:7356-1634815800-1634818500@electcarole.com
SUMMARY:Freetown Office Hours
DESCRIPTION:
URL:https://electcarole.com/event/freetown-office-hours-11/
LOCATION:Freetown Town Hall\, 3 Main Street\, Assonet\, 02702\, United States
END:VEVENT
BEGIN:VEVENT
DTSTART;TZID=UTC:20211021T130000
DTEND;TZID=UTC:20211021T134500
DTSTAMP:20260424T124535
CREATED:20211005T150408Z
LAST-MODIFIED:20211014T151841Z
UID:7350-1634821200-1634823900@electcarole.com
SUMMARY:Fall River Office Hours
DESCRIPTION:
URL:https://electcarole.com/event/fall-river-office-hours-3/
LOCATION:North End Senior Center Office Hours\, 101 President Avenue\, Fall River\, MA\, 02720\, United States
END:VEVENT
END:VCALENDAR