BEGIN:VCALENDAR
VERSION:2.0
PRODID:-//Carole Fiola - ECPv5.8.1//NONSGML v1.0//EN
CALSCALE:GREGORIAN
METHOD:PUBLISH
X-WR-CALNAME:Carole Fiola
X-ORIGINAL-URL:https://electcarole.com
X-WR-CALDESC:Events for Carole Fiola
BEGIN:VTIMEZONE
TZID:UTC
BEGIN:STANDARD
TZOFFSETFROM:+0000
TZOFFSETTO:+0000
TZNAME:UTC
DTSTART:20210101T000000
END:STANDARD
END:VTIMEZONE
BEGIN:VEVENT
DTSTART;TZID=UTC:20211028T110000
DTEND;TZID=UTC:20211028T120000
DTSTAMP:20260424T125404
CREATED:20211005T145635Z
LAST-MODIFIED:20211005T145635Z
UID:7343-1635418800-1635422400@electcarole.com
SUMMARY:Coffee and Conversation with Carole
DESCRIPTION:
URL:https://electcarole.com/event/coffee-and-conversation-with-carole-29/
LOCATION:Greater Fall River Art Association\, 80 Belmont Street\, Fall River\, 02170
END:VEVENT
END:VCALENDAR