BEGIN:VCALENDAR
VERSION:2.0
PRODID:-//Carole Fiola - ECPv5.8.1//NONSGML v1.0//EN
CALSCALE:GREGORIAN
METHOD:PUBLISH
X-WR-CALNAME:Carole Fiola
X-ORIGINAL-URL:https://electcarole.com
X-WR-CALDESC:Events for Carole Fiola
BEGIN:VTIMEZONE
TZID:UTC
BEGIN:STANDARD
TZOFFSETFROM:+0000
TZOFFSETTO:+0000
TZNAME:UTC
DTSTART:20210101T000000
END:STANDARD
END:VTIMEZONE
BEGIN:VEVENT
DTSTART;TZID=UTC:20211221T103000
DTEND;TZID=UTC:20211221T113000
DTSTAMP:20260424T160146
CREATED:20211129T214336Z
LAST-MODIFIED:20211129T214336Z
UID:7385-1640082600-1640086200@electcarole.com
SUMMARY:Fall River Office Hours
DESCRIPTION:
URL:https://electcarole.com/event/fall-river-office-hours-5/
LOCATION:101 President Avenue. Fall River\, MA
END:VEVENT
BEGIN:VEVENT
DTSTART;TZID=UTC:20211221T113000
DTEND;TZID=UTC:20211221T123000
DTSTAMP:20260424T160146
CREATED:20211129T214556Z
LAST-MODIFIED:20211129T214556Z
UID:7389-1640086200-1640089800@electcarole.com
SUMMARY:Fall River Office Hours
DESCRIPTION:
URL:https://electcarole.com/event/fall-river-office-hours-6/
LOCATION:69 Alden St.\, Fall River\, MA\,
END:VEVENT
END:VCALENDAR