BEGIN:VCALENDAR
VERSION:2.0
PRODID:-//Carole Fiola - ECPv5.8.1//NONSGML v1.0//EN
CALSCALE:GREGORIAN
METHOD:PUBLISH
X-WR-CALNAME:Carole Fiola
X-ORIGINAL-URL:https://electcarole.com
X-WR-CALDESC:Events for Carole Fiola
BEGIN:VTIMEZONE
TZID:UTC
BEGIN:STANDARD
TZOFFSETFROM:+0000
TZOFFSETTO:+0000
TZNAME:UTC
DTSTART:20220101T000000
END:STANDARD
END:VTIMEZONE
BEGIN:VEVENT
DTSTART;TZID=UTC:20220719T103000
DTEND;TZID=UTC:20220719T111500
DTSTAMP:20260425T025402
CREATED:20220720T171551Z
LAST-MODIFIED:20220720T171551Z
UID:7890-1658226600-1658229300@electcarole.com
SUMMARY:Fall River Office Hours
DESCRIPTION:
URL:https://electcarole.com/event/fall-river-office-hours-19/
LOCATION:North End Senior Center Office Hours\, 101 President Avenue\, Fall River\, MA\, 02720\, United States
END:VEVENT
BEGIN:VEVENT
DTSTART;TZID=UTC:20220719T113000
DTEND;TZID=UTC:20220719T121500
DTSTAMP:20260425T025402
CREATED:20220720T171708Z
LAST-MODIFIED:20220720T171708Z
UID:7894-1658230200-1658232900@electcarole.com
SUMMARY:Fall River Office Hours
DESCRIPTION:
URL:https://electcarole.com/event/fall-river-office-hours-20/
LOCATION:Flint Senior Center Office Hours\, 1423 Pleasant St\, Fall River\, MA\, 02723\, United States
END:VEVENT
END:VCALENDAR