BEGIN:VCALENDAR
VERSION:2.0
PRODID:-//Carole Fiola - ECPv5.8.1//NONSGML v1.0//EN
CALSCALE:GREGORIAN
METHOD:PUBLISH
X-WR-CALNAME:Carole Fiola
X-ORIGINAL-URL:https://electcarole.com
X-WR-CALDESC:Events for Carole Fiola
BEGIN:VTIMEZONE
TZID:UTC
BEGIN:STANDARD
TZOFFSETFROM:+0000
TZOFFSETTO:+0000
TZNAME:UTC
DTSTART:20230101T000000
END:STANDARD
END:VTIMEZONE
BEGIN:VEVENT
DTSTART;TZID=UTC:20230117T103000
DTEND;TZID=UTC:20230117T114500
DTSTAMP:20260425T123759
CREATED:20230112T175206Z
LAST-MODIFIED:20230112T175206Z
UID:8269-1673951400-1673955900@electcarole.com
SUMMARY:Fall River Office Hours
DESCRIPTION:
URL:https://electcarole.com/event/fall-river-office-hours-29/
LOCATION:North End Senior Center Office Hours\, 101 President Avenue\, Fall River\, MA\, 02720\, United States
END:VEVENT
BEGIN:VEVENT
DTSTART;TZID=UTC:20230117T113000
DTEND;TZID=UTC:20230117T121500
DTSTAMP:20260425T123759
CREATED:20230112T175249Z
LAST-MODIFIED:20230112T175249Z
UID:8271-1673955000-1673957700@electcarole.com
SUMMARY:Fall River Office Hours
DESCRIPTION:
URL:https://electcarole.com/event/fall-river-office-hours-30/
LOCATION:Flint Senior Center Office Hours\, 1423 Pleasant St\, Fall River\, MA\, 02723\, United States
END:VEVENT
END:VCALENDAR