BEGIN:VCALENDAR
VERSION:2.0
PRODID:-//Carole Fiola - ECPv5.8.1//NONSGML v1.0//EN
CALSCALE:GREGORIAN
METHOD:PUBLISH
X-WR-CALNAME:Carole Fiola
X-ORIGINAL-URL:https://electcarole.com
X-WR-CALDESC:Events for Carole Fiola
BEGIN:VTIMEZONE
TZID:UTC
BEGIN:STANDARD
TZOFFSETFROM:+0000
TZOFFSETTO:+0000
TZNAME:UTC
DTSTART:20230101T000000
END:STANDARD
END:VTIMEZONE
BEGIN:VEVENT
DTSTART;TZID=UTC:20231109T100000
DTEND;TZID=UTC:20231109T110000
DTSTAMP:20260426T033015
CREATED:20231030T133440Z
LAST-MODIFIED:20231030T133440Z
UID:8585-1699524000-1699527600@electcarole.com
SUMMARY:Coffee and Conversation with Carole
DESCRIPTION:
URL:https://electcarole.com/event/coffee-and-conversation-with-carole-46/
LOCATION:Sweet Rose Cafe\, 268 Highland Ave\, Fall River\, 268 Highland Avenue\, Fall River
END:VEVENT
END:VCALENDAR